BEGIN:VCALENDAR
VERSION:2.0
PRODID:-//hacksw/handcal//NONSGML v1.0//EN
CALSCALE:GREGORIAN
BEGIN:VEVENT
ORGANIZER;CN=Krystal Biotech, Inc.:MAILTO:no-reply@mail.gcs-web.com
DTEND:
UID:5bd968ba-f88f-4aad-93ca-10f49f9f166b
DTSTAMP:1776952670
LOCATION:https://www.webcaster5.com/Webcast/Page/3018/53916
DESCRIPTION:Event Details https://ir.krystalbio.com/events/event-details/first-quarter-2026-earnings-call\n\nWebcast: https://www.webcaster5.com/Webcast/Page/3018/53916
URL;VALUE=URI:https://www.webcaster5.com/Webcast/Page/3018/53916
SUMMARY:Krystal Biotech, Inc. - First Quarter 2026 Earnings Call
DTSTART:20260504T123000Z
END:VEVENT
END:VCALENDAR